BEGIN:VCALENDAR
VERSION:2.0
PRODID:-//ChamberMaster//Event Calendar 2.0//EN
METHOD:PUBLISH
X-PUBLISHED-TTL:P3D
REFRESH-INTERVAL:P3D
CALSCALE:GREGORIAN
BEGIN:VEVENT
DTSTART:20130516T133000Z
DTEND:20130516T143000Z
X-MICROSOFT-CDO-ALLDAYEVENT:FALSE
SUMMARY:Business Development Committee ( Chamber )
DESCRIPTION:Business Development Committee ( Chamber )
X-ALT-DESC;FMTTYPE=text/html:Business Development Committee ( Chamber ) 
LOCATION:
UID:e.1412.368
SEQUENCE:3
DTSTAMP:20260423T075116Z
URL:https://business.rankinchamber.com/events/details/business-development-committee-chamber-05-16-2013-368
END:VEVENT

END:VCALENDAR
