BEGIN:VCALENDAR
VERSION:2.0
PRODID:-//ChamberMaster//Event Calendar 2.0//EN
METHOD:PUBLISH
X-PUBLISHED-TTL:P3D
REFRESH-INTERVAL:P3D
CALSCALE:GREGORIAN
BEGIN:VEVENT
DTSTART:20121025T210000Z
DTEND:20121026T000000Z
X-MICROSOFT-CDO-ALLDAYEVENT:FALSE
SUMMARY:Business Expo
DESCRIPTION:Hinds Community College Muse Center
X-ALT-DESC;FMTTYPE=text/html:Hinds Community College Muse Center&nbsp\;
LOCATION:
UID:e.1412.193
SEQUENCE:3
DTSTAMP:20260422T073824Z
URL:https://business.rankinchamber.com/events/details/business-expo-10-25-2012-193
END:VEVENT

END:VCALENDAR
