BEGIN:VCALENDAR
VERSION:2.0
PRODID:-//ChamberMaster//Event Calendar 2.0//EN
METHOD:PUBLISH
X-PUBLISHED-TTL:P3D
REFRESH-INTERVAL:P3D
CALSCALE:GREGORIAN
BEGIN:VEVENT
DTSTART;VALUE=DATE:20131224
DTEND;VALUE=DATE:20131225
TRANSP:TRANSPARENT
X-MICROSOFT-CDO-ALLDAYEVENT:TRUE
SUMMARY:Chamber closed
DESCRIPTION:Christmas Eve (Chamber closed)
X-ALT-DESC;FMTTYPE=text/html:Christmas Eve (Chamber closed)
LOCATION:
UID:e.1412.548
SEQUENCE:3
DTSTAMP:20260422T202713Z
URL:https://business.rankinchamber.com/events/details/chamber-closed-12-24-2013-548
END:VEVENT

END:VCALENDAR
