BEGIN:VCALENDAR
VERSION:2.0
PRODID:-//ChamberMaster//Event Calendar 2.0//EN
METHOD:PUBLISH
X-PUBLISHED-TTL:P3D
REFRESH-INTERVAL:P3D
CALSCALE:GREGORIAN
BEGIN:VEVENT
DTSTART:20130321T180000Z
DTEND:20130321T220000Z
X-MICROSOFT-CDO-ALLDAYEVENT:FALSE
SUMMARY:Chamber Golf Tournament
DESCRIPTION:Rankin Chamber/Tempstaff Golf Tournament (Patrick Farms Golf Club\, Pearl)\n\nNoon - registration & lunch\n\n1pm shotgun start
X-ALT-DESC;FMTTYPE=text/html:Rankin Chamber/Tempstaff Golf Tournament (Patrick Farms Golf Club\, Pearl)<br />\nNoon - registration &amp\; lunch<br />\n1pm shotgun start
LOCATION:
UID:e.1412.318
SEQUENCE:3
DTSTAMP:20260423T114014Z
URL:https://business.rankinchamber.com/events/details/chamber-golf-tournament-03-21-2013-318
END:VEVENT

END:VCALENDAR
