BEGIN:VCALENDAR
VERSION:2.0
PRODID:-//ChamberMaster//Event Calendar 2.0//EN
METHOD:PUBLISH
X-PUBLISHED-TTL:P3D
REFRESH-INTERVAL:P3D
CALSCALE:GREGORIAN
BEGIN:VEVENT
DTSTART:20140911T220000Z
DTEND:20140912T000000Z
X-MICROSOFT-CDO-ALLDAYEVENT:FALSE
SUMMARY:Corkscrews & How Do You Do's
DESCRIPTION:Corkscrews & How Do You Do's (Table 100\, Flowood)
X-ALT-DESC;FMTTYPE=text/html:Corkscrews &amp\; How Do You Do&#39\;s (Table 100\, Flowood)
LOCATION:
UID:e.1412.708
SEQUENCE:3
DTSTAMP:20260422T055914Z
URL:https://business.rankinchamber.com/events/details/corkscrews-how-do-you-do-s-09-11-2014-708
END:VEVENT

END:VCALENDAR
