BEGIN:VCALENDAR
VERSION:2.0
PRODID:-//ChamberMaster//Event Calendar 2.0//EN
METHOD:PUBLISH
X-PUBLISHED-TTL:P3D
REFRESH-INTERVAL:P3D
CALSCALE:GREGORIAN
BEGIN:VEVENT
DTSTART:20130125T140000Z
DTEND:20130125T150000Z
X-MICROSOFT-CDO-ALLDAYEVENT:FALSE
SUMMARY:Dollars for Donuts
DESCRIPTION:Dollars for Donuts (Batteries Plus\, 381 Ridge Way\, Flowood)\n\n\n\nBring $1 and 50+ business cards to network. This event benefits Magnolia Speech School.
X-ALT-DESC;FMTTYPE=text/html:Dollars for Donuts (Batteries Plus\, 381 Ridge Way\, Flowood)<br />\n<br />\nBring $1 and 50+ business cards to network. This event benefits Magnolia Speech School.
LOCATION:
UID:e.1412.283
SEQUENCE:3
DTSTAMP:20260423T152512Z
URL:https://business.rankinchamber.com/events/details/dollars-for-donuts-01-25-2013-283
END:VEVENT

END:VCALENDAR
