BEGIN:VCALENDAR
VERSION:2.0
PRODID:-//ChamberMaster//Event Calendar 2.0//EN
METHOD:PUBLISH
X-PUBLISHED-TTL:P3D
REFRESH-INTERVAL:P3D
CALSCALE:GREGORIAN
BEGIN:VEVENT
DTSTART:20150130T140000Z
DTEND:20150130T150000Z
X-MICROSOFT-CDO-ALLDAYEVENT:FALSE
SUMMARY:Dollars for Donuts
DESCRIPTION:Dollars for Donuts
X-ALT-DESC;FMTTYPE=text/html:Dollars for Donuts
LOCATION:
UID:e.1412.796
SEQUENCE:3
DTSTAMP:20260421T233743Z
URL:https://business.rankinchamber.com/events/details/dollars-for-donuts-01-30-2015-796
END:VEVENT

END:VCALENDAR
