BEGIN:VCALENDAR
VERSION:2.0
PRODID:-//ChamberMaster//Event Calendar 2.0//EN
METHOD:PUBLISH
X-PUBLISHED-TTL:P3D
REFRESH-INTERVAL:P3D
CALSCALE:GREGORIAN
BEGIN:VEVENT
DTSTART:20140131T140000Z
DTEND:20140131T150000Z
X-MICROSOFT-CDO-ALLDAYEVENT:FALSE
SUMMARY:Dollars for Donuts
DESCRIPTION:Dollars for Donuts (Fower ProChiropractic and Wellness Center\, 5230 Hwy 80 East\, Ste A\, Pearl)\n\n\n\nHosted by Rankin County Chamber and benefits Teen Challenge.
X-ALT-DESC;FMTTYPE=text/html:Dollars for Donuts (Fower ProChiropractic and Wellness Center\, 5230 Hwy 80 East\, Ste A\, Pearl)<br />\n<br />\nHosted by Rankin County Chamber and benefits Teen Challenge.
LOCATION:
UID:e.1412.574
SEQUENCE:3
DTSTAMP:20260422T183914Z
URL:https://business.rankinchamber.com/events/details/dollars-for-donuts-01-31-2014-574
END:VEVENT

END:VCALENDAR
