BEGIN:VCALENDAR
VERSION:2.0
PRODID:-//ChamberMaster//Event Calendar 2.0//EN
METHOD:PUBLISH
X-PUBLISHED-TTL:P3D
REFRESH-INTERVAL:P3D
CALSCALE:GREGORIAN
BEGIN:VEVENT
DTSTART:20150227T140000Z
DTEND:20150227T150000Z
X-MICROSOFT-CDO-ALLDAYEVENT:FALSE
SUMMARY:Dollars for Donuts
DESCRIPTION:Dollars for Donuts (Citizens National Bank\, 102 Plaza Drive\, Flowood)
X-ALT-DESC;FMTTYPE=text/html:Dollars for Donuts&nbsp\;(Citizens National Bank\, 102&nbsp\;Plaza Drive\, Flowood)
LOCATION:
UID:e.1412.1052
SEQUENCE:3
DTSTAMP:20260421T220029Z
URL:https://business.rankinchamber.com/events/details/dollars-for-donuts-02-27-2015-1052
END:VEVENT

END:VCALENDAR
