BEGIN:VCALENDAR
VERSION:2.0
PRODID:-//ChamberMaster//Event Calendar 2.0//EN
METHOD:PUBLISH
X-PUBLISHED-TTL:P3D
REFRESH-INTERVAL:P3D
CALSCALE:GREGORIAN
BEGIN:VEVENT
DTSTART:20150327T130000Z
DTEND:20150327T140000Z
X-MICROSOFT-CDO-ALLDAYEVENT:FALSE
SUMMARY:Dollars for Donuts
DESCRIPTION:Dollars for Donuts (Signmark\, 228 N. Pearson Rd\, Pearl) Hosted by Pearl Chamber
X-ALT-DESC;FMTTYPE=text/html:Dollars for Donuts (Signmark\, 228 N. Pearson Rd\, Pearl) Hosted by Pearl Chamber
LOCATION:
UID:e.1412.1053
SEQUENCE:3
DTSTAMP:20260421T201800Z
URL:https://business.rankinchamber.com/events/details/dollars-for-donuts-03-27-2015-1053
END:VEVENT

END:VCALENDAR
