BEGIN:VCALENDAR
VERSION:2.0
PRODID:-//ChamberMaster//Event Calendar 2.0//EN
METHOD:PUBLISH
X-PUBLISHED-TTL:P3D
REFRESH-INTERVAL:P3D
CALSCALE:GREGORIAN
BEGIN:VEVENT
DTSTART:20140328T130000Z
DTEND:20140328T140000Z
X-MICROSOFT-CDO-ALLDAYEVENT:FALSE
SUMMARY:Dollars for Donuts
DESCRIPTION:Dollars for Donuts (MS College-Flowood Center\, 115 Laurel Park Cove\, Ste 101\, Flowood) Hosted by Flowood Chamber and benefiting Mississippi School for the Blind
X-ALT-DESC;FMTTYPE=text/html:Dollars for Donuts (MS College-Flowood Center\, 115 Laurel Park Cove\, Ste 101\, Flowood) Hosted by Flowood&nbsp\;Chamber and benefiting Mississippi School for the Blind
LOCATION:
UID:e.1412.609
SEQUENCE:3
DTSTAMP:20260422T155146Z
URL:https://business.rankinchamber.com/events/details/dollars-for-donuts-03-28-2014-609
END:VEVENT

END:VCALENDAR
