BEGIN:VCALENDAR
VERSION:2.0
PRODID:-//ChamberMaster//Event Calendar 2.0//EN
METHOD:PUBLISH
X-PUBLISHED-TTL:P3D
REFRESH-INTERVAL:P3D
CALSCALE:GREGORIAN
BEGIN:VEVENT
DTSTART:20150529T130000Z
DTEND:20150529T140000Z
X-MICROSOFT-CDO-ALLDAYEVENT:FALSE
SUMMARY:Dollars for Donuts
DESCRIPTION:Dollars for Donuts (BankFirst\, 201 BankFirst Drive\, Flowood)
X-ALT-DESC;FMTTYPE=text/html:Dollars for Donuts (BankFirst\, 201 BankFirst Drive\, Flowood)
LOCATION:
UID:e.1412.1055
SEQUENCE:3
DTSTAMP:20260421T172236Z
URL:https://business.rankinchamber.com/events/details/dollars-for-donuts-05-29-2015-1055
END:VEVENT

END:VCALENDAR
