BEGIN:VCALENDAR
VERSION:2.0
PRODID:-//ChamberMaster//Event Calendar 2.0//EN
METHOD:PUBLISH
X-PUBLISHED-TTL:P3D
REFRESH-INTERVAL:P3D
CALSCALE:GREGORIAN
BEGIN:VEVENT
DTSTART:20140530T130000Z
DTEND:20140530T140000Z
X-MICROSOFT-CDO-ALLDAYEVENT:FALSE
SUMMARY:Dollars for Donuts
DESCRIPTION:Dollars for Donuts (4 Peas in a Pot\, 3823 Hwy 80 E\, Pearl) Hosted by Pearl Chamber\, benefits Keep Pearl Beautiful
X-ALT-DESC;FMTTYPE=text/html:Dollars for Donuts (4 Peas in a Pot\, 3823 Hwy 80 E\, Pearl) Hosted by Pearl Chamber\, benefits <strong>Keep Pearl Beautiful</strong>
LOCATION:
UID:e.1412.646
SEQUENCE:3
DTSTAMP:20260422T123537Z
URL:https://business.rankinchamber.com/events/details/dollars-for-donuts-05-30-2014-646
END:VEVENT

END:VCALENDAR
