BEGIN:VCALENDAR
VERSION:2.0
PRODID:-//ChamberMaster//Event Calendar 2.0//EN
METHOD:PUBLISH
X-PUBLISHED-TTL:P3D
REFRESH-INTERVAL:P3D
CALSCALE:GREGORIAN
BEGIN:VEVENT
DTSTART:20140725T130000Z
DTEND:20140725T140000Z
X-MICROSOFT-CDO-ALLDAYEVENT:FALSE
SUMMARY:Dollars for Donuts
DESCRIPTION:DOLLARS FOR DONUTS\n\nLocation: TrustCare Express Medical Clincs\, 1645 W. Government Cove\, Brandon (The building next door to the Rankin Chamber)\n\nBenefiting: MS Blood Services
X-ALT-DESC;FMTTYPE=text/html:<b>DOLLARS FOR DONUTS</b><br />\n<strong>Location</strong>: TrustCare Express Medical Clincs\, 1645 W. Government Cove\, Brandon (The building next door to the Rankin Chamber)<br />\n<strong>Benefiting</strong>: MS Blood Services
LOCATION:
UID:e.1412.673
SEQUENCE:3
DTSTAMP:20260422T091816Z
URL:https://business.rankinchamber.com/events/details/dollars-for-donuts-07-25-2014-673
END:VEVENT

END:VCALENDAR
