BEGIN:VCALENDAR
VERSION:2.0
PRODID:-//ChamberMaster//Event Calendar 2.0//EN
METHOD:PUBLISH
X-PUBLISHED-TTL:P3D
REFRESH-INTERVAL:P3D
CALSCALE:GREGORIAN
BEGIN:VEVENT
DTSTART:20130726T130000Z
DTEND:20130726T140000Z
X-MICROSOFT-CDO-ALLDAYEVENT:FALSE
SUMMARY:Dollars for Donuts
DESCRIPTION:Dollars for Donuts (AlphaGraphics\, 115 Metroplex Blvd\, Pearl) Hosted by Pearl Chamber and benefits Kiwanis Club of Pearl
X-ALT-DESC;FMTTYPE=text/html:Dollars for Donuts (AlphaGraphics\, 115 Metroplex Blvd\, Pearl) Hosted by Pearl Chamber and benefits Kiwanis Club of Pearl
LOCATION:
UID:e.1412.428
SEQUENCE:3
DTSTAMP:20260423T044351Z
URL:https://business.rankinchamber.com/events/details/dollars-for-donuts-07-26-2013-428
END:VEVENT

END:VCALENDAR
