BEGIN:VCALENDAR
VERSION:2.0
PRODID:-//ChamberMaster//Event Calendar 2.0//EN
METHOD:PUBLISH
X-PUBLISHED-TTL:P3D
REFRESH-INTERVAL:P3D
CALSCALE:GREGORIAN
BEGIN:VEVENT
DTSTART:20120727T130000Z
DTEND:20120727T134500Z
X-MICROSOFT-CDO-ALLDAYEVENT:FALSE
SUMMARY:Dollars for Donuts
DESCRIPTION:Dollars for Donuts
X-ALT-DESC;FMTTYPE=text/html:<span id="scayt_bookmark" style="display: none">&nbsp\;</span><strong>Dollars for&nbsp\;Donuts&nbsp\;</strong>
LOCATION:Brandon Municipal Complex 1000 Municipal Drive Brandon\, MS 39042
UID:e.1412.157
SEQUENCE:3
DTSTAMP:20260422T024646Z
URL:https://business.rankinchamber.com/events/details/dollars-for-donuts-07-27-2012-157
END:VEVENT

END:VCALENDAR
