BEGIN:VCALENDAR
VERSION:2.0
PRODID:-//ChamberMaster//Event Calendar 2.0//EN
METHOD:PUBLISH
X-PUBLISHED-TTL:P3D
REFRESH-INTERVAL:P3D
CALSCALE:GREGORIAN
BEGIN:VEVENT
DTSTART:20150925T130000Z
DTEND:20150925T140000Z
X-MICROSOFT-CDO-ALLDAYEVENT:FALSE
SUMMARY:Dollars for Donuts
DESCRIPTION:Dollars for Donuts (Outlets of Mississippi Food Court\, 200 Bass Pro Drive\, Pearl) To Benefit: The Little Lighthouse
X-ALT-DESC;FMTTYPE=text/html:Dollars for Donuts (Outlets of Mississippi Food Court\, 200 Bass Pro Drive\, Pearl) To Benefit: The Little Lighthouse<br />\n&nbsp\;
LOCATION:
UID:e.1412.1059
SEQUENCE:3
DTSTAMP:20260419T153013Z
URL:https://business.rankinchamber.com/events/details/dollars-for-donuts-09-25-2015-1059
END:VEVENT

END:VCALENDAR
