BEGIN:VCALENDAR
VERSION:2.0
PRODID:-//ChamberMaster//Event Calendar 2.0//EN
METHOD:PUBLISH
X-PUBLISHED-TTL:P3D
REFRESH-INTERVAL:P3D
CALSCALE:GREGORIAN
BEGIN:VEVENT
DTSTART:20130927T130000Z
DTEND:20130927T140000Z
X-MICROSOFT-CDO-ALLDAYEVENT:FALSE
SUMMARY:Dollars for Donuts
DESCRIPTION:Dollars for Donuts: Howard Wilson Chrysler Jeep Dodge\, 4000 Lakeland Dr\, Flowood
X-ALT-DESC;FMTTYPE=text/html:Dollars for Donuts: Howard Wilson Chrysler Jeep Dodge\, 4000 Lakeland Dr\, Flowood
LOCATION:
UID:e.1412.485
SEQUENCE:3
DTSTAMP:20260423T013540Z
URL:https://business.rankinchamber.com/events/details/dollars-for-donuts-09-27-2013-485
END:VEVENT

END:VCALENDAR
