BEGIN:VCALENDAR
VERSION:2.0
PRODID:-//ChamberMaster//Event Calendar 2.0//EN
METHOD:PUBLISH
X-PUBLISHED-TTL:P3D
REFRESH-INTERVAL:P3D
CALSCALE:GREGORIAN
BEGIN:VEVENT
DTSTART:20120928T130000Z
DTEND:20120928T140000Z
X-MICROSOFT-CDO-ALLDAYEVENT:FALSE
SUMMARY:Dollars for Donuts
DESCRIPTION:Benefiting NAMI National Alliance on Mental Illness
X-ALT-DESC;FMTTYPE=text/html:Benefiting NAMI National Alliance on Mental Illness
LOCATION:Buckingham Jewelers at Market Street Mall
UID:e.1412.185
SEQUENCE:3
DTSTAMP:20260422T055043Z
URL:https://business.rankinchamber.com/events/details/dollars-for-donuts-09-28-2012-185
END:VEVENT

END:VCALENDAR
