BEGIN:VCALENDAR
VERSION:2.0
PRODID:-//ChamberMaster//Event Calendar 2.0//EN
METHOD:PUBLISH
X-PUBLISHED-TTL:P3D
REFRESH-INTERVAL:P3D
CALSCALE:GREGORIAN
BEGIN:VEVENT
DTSTART:20151030T130000Z
DTEND:20151030T140000Z
X-MICROSOFT-CDO-ALLDAYEVENT:FALSE
SUMMARY:Dollars for Donuts
DESCRIPTION:Dollars for Donuts (Renasant Bank\, 1285 W. Government St\, Brandon)\n\nBenefits: New Day Mississippi
X-ALT-DESC;FMTTYPE=text/html:Dollars for Donuts (Renasant Bank\, 1285 W. Government St\, Brandon)<br />\nBenefits: New Day Mississippi
LOCATION:
UID:e.1412.1060
SEQUENCE:3
DTSTAMP:20260421T084234Z
URL:https://business.rankinchamber.com/events/details/dollars-for-donuts-10-30-2015-1060
END:VEVENT

END:VCALENDAR
