BEGIN:VCALENDAR
VERSION:2.0
PRODID:-//ChamberMaster//Event Calendar 2.0//EN
METHOD:PUBLISH
X-PUBLISHED-TTL:P3D
REFRESH-INTERVAL:P3D
CALSCALE:GREGORIAN
BEGIN:VEVENT
DTSTART:20141121T140000Z
DTEND:20141121T150000Z
X-MICROSOFT-CDO-ALLDAYEVENT:FALSE
SUMMARY:Dollars for Donuts
DESCRIPTION:DOLLARS FOR DONUTS\n\n\n\nLocation: \n\nThe Bounce Palace\, 3528 Hwy 80 E. Pearl\n\nlocated in same shopping center as Krystals\, in the old Hudson's building)\n\n\n\nBenefiting: \n\nThe McClean Fletcher Center
X-ALT-DESC;FMTTYPE=text/html:<strong>DOLLARS FOR DONUTS</strong><br />\n<br />\n<strong>Location: </strong><br />\nThe Bounce Palace\, 3528 Hwy 80 E. Pearl<br />\nlocated in same shopping center as Krystals\, in the old Hudson&#39\;s building)<br />\n<br />\n<strong>Benefiting:</strong>&nbsp\;<br />\nThe McClean Fletcher Center
LOCATION:
UID:e.1412.760
SEQUENCE:3
DTSTAMP:20260422T024716Z
URL:https://business.rankinchamber.com/events/details/dollars-for-donuts-11-21-2014-760
END:VEVENT

END:VCALENDAR
