BEGIN:VCALENDAR
VERSION:2.0
PRODID:-//ChamberMaster//Event Calendar 2.0//EN
METHOD:PUBLISH
X-PUBLISHED-TTL:P3D
REFRESH-INTERVAL:P3D
CALSCALE:GREGORIAN
BEGIN:VEVENT
DTSTART:20131122T140000Z
DTEND:20131122T150000Z
X-MICROSOFT-CDO-ALLDAYEVENT:FALSE
SUMMARY:Dollars for Donuts
DESCRIPTION:Dollars for Donuts (Hilton Garden Inn\, 438 Riverwind Dr\, Pearl)
X-ALT-DESC;FMTTYPE=text/html:Dollars for Donuts (Hilton Garden Inn\, 438 Riverwind Dr\, Pearl)<br />\n
LOCATION:
UID:e.1412.528
SEQUENCE:3
DTSTAMP:20260422T215905Z
URL:https://business.rankinchamber.com/events/details/dollars-for-donuts-11-22-2013-528
END:VEVENT

END:VCALENDAR
