BEGIN:VCALENDAR
VERSION:2.0
PRODID:-//ChamberMaster//Event Calendar 2.0//EN
METHOD:PUBLISH
X-PUBLISHED-TTL:P3D
REFRESH-INTERVAL:P3D
CALSCALE:GREGORIAN
BEGIN:VEVENT
DTSTART:20130531T130000Z
DTEND:20130531T140000Z
X-MICROSOFT-CDO-ALLDAYEVENT:FALSE
SUMMARY:Dollars for Donuts ( Antonelli College )
DESCRIPTION:Dollars for Donuts ( Antonelli College\, 2323 Lakeland Dr.\, Flowood )
X-ALT-DESC;FMTTYPE=text/html:Dollars for Donuts ( Antonelli College\, 2323 Lakeland Dr.\, Flowood )
LOCATION:
UID:e.1412.376
SEQUENCE:3
DTSTAMP:20260423T075116Z
URL:https://business.rankinchamber.com/events/details/dollars-for-donuts-antonelli-college-05-31-2013-376
END:VEVENT

END:VCALENDAR
