BEGIN:VCALENDAR
VERSION:2.0
PRODID:-//ChamberMaster//Event Calendar 2.0//EN
METHOD:PUBLISH
X-PUBLISHED-TTL:P3D
REFRESH-INTERVAL:P3D
CALSCALE:GREGORIAN
BEGIN:VEVENT
DTSTART:20150212T220000Z
DTEND:20150212T230000Z
X-MICROSOFT-CDO-ALLDAYEVENT:FALSE
SUMMARY:Education Committee
DESCRIPTION:Education Committee (Pearl Community Center\, 2420 Old Brandon Rd\, Pearl)\n\nwill meet prior to Board Certified Teachers Banquet
X-ALT-DESC;FMTTYPE=text/html:Education Committee (Pearl Community Center\, 2420 Old Brandon Rd\, Pearl)<br />\nwill meet prior to Board Certified Teachers Banquet
LOCATION:
UID:e.1412.813
SEQUENCE:3
DTSTAMP:20260421T220215Z
URL:https://business.rankinchamber.com/events/details/education-committee-02-12-2015-813
END:VEVENT

END:VCALENDAR
