BEGIN:VCALENDAR
VERSION:2.0
PRODID:-//ChamberMaster//Event Calendar 2.0//EN
METHOD:PUBLISH
X-PUBLISHED-TTL:P3D
REFRESH-INTERVAL:P3D
CALSCALE:GREGORIAN
BEGIN:VEVENT
DTSTART:20130318T130000Z
DTEND:20130318T160000Z
X-MICROSOFT-CDO-ALLDAYEVENT:FALSE
SUMMARY:Education Committee
DESCRIPTION:Education Committee (Raymond James/Robert Dienelt office\, 232 Market St\, Flowood)\n\n\n\nScholarship applications to be reviewed
X-ALT-DESC;FMTTYPE=text/html:Education Committee (Raymond James/Robert Dienelt office\, 232 Market St\, Flowood)<br />\n<br />\nScholarship applications to be reviewed
LOCATION:
UID:e.1412.314
SEQUENCE:3
DTSTAMP:20260423T113813Z
URL:https://business.rankinchamber.com/events/details/education-committee-03-18-2013-314
END:VEVENT

END:VCALENDAR
