BEGIN:VCALENDAR
VERSION:2.0
PRODID:-//ChamberMaster//Event Calendar 2.0//EN
METHOD:PUBLISH
X-PUBLISHED-TTL:P3D
REFRESH-INTERVAL:P3D
CALSCALE:GREGORIAN
BEGIN:VEVENT
DTSTART:20140506T140000Z
DTEND:20140506T150000Z
X-MICROSOFT-CDO-ALLDAYEVENT:FALSE
SUMMARY:Education Committee
DESCRIPTION:Education Committee (Muse Center)  committee will meet prior to Scholarship Reception
X-ALT-DESC;FMTTYPE=text/html:Education Committee (Muse Center) &nbsp\;committee will meet prior to Scholarship Reception
LOCATION:
UID:e.1412.634
SEQUENCE:3
DTSTAMP:20260422T122932Z
URL:https://business.rankinchamber.com/events/details/education-committee-05-06-2014-634
END:VEVENT

END:VCALENDAR
