BEGIN:VCALENDAR
VERSION:2.0
PRODID:-//ChamberMaster//Event Calendar 2.0//EN
METHOD:PUBLISH
X-PUBLISHED-TTL:P3D
REFRESH-INTERVAL:P3D
CALSCALE:GREGORIAN
BEGIN:VEVENT
DTSTART:20130813T130000Z
DTEND:20130813T140000Z
X-MICROSOFT-CDO-ALLDAYEVENT:FALSE
SUMMARY:Education Committee
DESCRIPTION:Education Committee (Corner Bakery\, 108 Market St\, Flowood)
X-ALT-DESC;FMTTYPE=text/html:Education Committee (Corner Bakery\, 108 Market St\, Flowood)
LOCATION:
UID:e.1412.446
SEQUENCE:3
DTSTAMP:20260423T031514Z
URL:https://business.rankinchamber.com/events/details/education-committee-08-13-2013-446
END:VEVENT

END:VCALENDAR
