BEGIN:VCALENDAR
VERSION:2.0
PRODID:-//ChamberMaster//Event Calendar 2.0//EN
METHOD:PUBLISH
X-PUBLISHED-TTL:P3D
REFRESH-INTERVAL:P3D
CALSCALE:GREGORIAN
BEGIN:VEVENT
DTSTART:20131107T141500Z
DTEND:20131107T151500Z
X-MICROSOFT-CDO-ALLDAYEVENT:FALSE
SUMMARY:Education Committee
DESCRIPTION:Education Committee (Corner Bakery\, 108 Market St\, Flowood)
X-ALT-DESC;FMTTYPE=text/html:Education Committee (Corner Bakery\, 108 Market St\, Flowood)
LOCATION:
UID:e.1412.516
SEQUENCE:3
DTSTAMP:20260422T215931Z
URL:https://business.rankinchamber.com/events/details/education-committee-11-07-2013-516
END:VEVENT

END:VCALENDAR
