BEGIN:VCALENDAR
VERSION:2.0
PRODID:-//ChamberMaster//Event Calendar 2.0//EN
METHOD:PUBLISH
X-PUBLISHED-TTL:P3D
REFRESH-INTERVAL:P3D
CALSCALE:GREGORIAN
BEGIN:VEVENT
DTSTART:20260219T143000Z
DTEND:20260219T153000Z
X-MICROSOFT-CDO-ALLDAYEVENT:FALSE
SUMMARY:Education Committee Meeting
DESCRIPTION:
X-ALT-DESC;FMTTYPE=text/html:
LOCATION:101 Service Dr.\, Brandon\, MS 39042
UID:e.1412.3427
SEQUENCE:3
DTSTAMP:20260422T200651Z
URL:https://business.rankinchamber.com/events/details/education-committee-meeting-02-19-2026-3427
END:VEVENT

END:VCALENDAR
