BEGIN:VCALENDAR
VERSION:2.0
PRODID:-//ChamberMaster//Event Calendar 2.0//EN
METHOD:PUBLISH
X-PUBLISHED-TTL:P3D
REFRESH-INTERVAL:P3D
CALSCALE:GREGORIAN
BEGIN:VEVENT
DTSTART:20140307T150000Z
DTEND:20140307T160000Z
X-MICROSOFT-CDO-ALLDAYEVENT:FALSE
SUMMARY:Elder Services Committee
DESCRIPTION:Elder Services Committee (Chamber)
X-ALT-DESC;FMTTYPE=text/html:Elder Services Committee (Chamber)
LOCATION:
UID:e.1412.612
SEQUENCE:3
DTSTAMP:20260422T155447Z
URL:https://business.rankinchamber.com/events/details/elder-services-committee-03-07-2014-612
END:VEVENT

END:VCALENDAR
