BEGIN:VCALENDAR
VERSION:2.0
PRODID:-//ChamberMaster//Event Calendar 2.0//EN
METHOD:PUBLISH
X-PUBLISHED-TTL:P3D
REFRESH-INTERVAL:P3D
CALSCALE:GREGORIAN
BEGIN:VEVENT
DTSTART:20150410T134500Z
DTEND:20150410T144500Z
X-MICROSOFT-CDO-ALLDAYEVENT:FALSE
SUMMARY:Elder Services Committee
DESCRIPTION:Elder Services Committee (Pearl Senior Center\, 110 Valentour Rd\, Pearl)
X-ALT-DESC;FMTTYPE=text/html:Elder Services Committee (Pearl Senior Center\, 110 Valentour Rd\, Pearl)
LOCATION:
UID:e.1412.1905
SEQUENCE:3
DTSTAMP:20260421T185335Z
URL:https://business.rankinchamber.com/events/details/elder-services-committee-04-10-2015-1905
END:VEVENT

END:VCALENDAR
