BEGIN:VCALENDAR
VERSION:2.0
PRODID:-//ChamberMaster//Event Calendar 2.0//EN
METHOD:PUBLISH
X-PUBLISHED-TTL:P3D
REFRESH-INTERVAL:P3D
CALSCALE:GREGORIAN
BEGIN:VEVENT
DTSTART:20140502T134500Z
DTEND:20140502T144500Z
X-MICROSOFT-CDO-ALLDAYEVENT:FALSE
SUMMARY:Elder Services Committee
DESCRIPTION:Elder Services Committee (Pearl Senior Center\, 110 Valentour Rd\, Pearl)
X-ALT-DESC;FMTTYPE=text/html:Elder Services Committee (Pearl Senior Center\, 110 Valentour Rd\, Pearl)
LOCATION:
UID:e.1412.631
SEQUENCE:3
DTSTAMP:20260422T122945Z
URL:https://business.rankinchamber.com/events/details/elder-services-committee-05-02-2014-631
END:VEVENT

END:VCALENDAR
