BEGIN:VCALENDAR
VERSION:2.0
PRODID:-//ChamberMaster//Event Calendar 2.0//EN
METHOD:PUBLISH
X-PUBLISHED-TTL:P3D
REFRESH-INTERVAL:P3D
CALSCALE:GREGORIAN
BEGIN:VEVENT
DTSTART:20120601T134500Z
DTEND:20120601T144500Z
X-MICROSOFT-CDO-ALLDAYEVENT:FALSE
SUMMARY:Elder Services Committee
DESCRIPTION:Elder Services Committee\n\n	Pearl Community Center\, 2420 Old Brandon Rd\, Pearl
X-ALT-DESC;FMTTYPE=text/html:<p>\n	Elder Services Committee<br />\n	Pearl Community Center\, 2420 Old Brandon Rd\, Pearl</p>\n
LOCATION:
UID:e.1412.140
SEQUENCE:3
DTSTAMP:20260422T012343Z
URL:https://business.rankinchamber.com/events/details/elder-services-committee-06-01-2012-140
END:VEVENT

END:VCALENDAR
