BEGIN:VCALENDAR
VERSION:2.0
PRODID:-//ChamberMaster//Event Calendar 2.0//EN
METHOD:PUBLISH
X-PUBLISHED-TTL:P3D
REFRESH-INTERVAL:P3D
CALSCALE:GREGORIAN
BEGIN:VEVENT
DTSTART:20140606T134500Z
DTEND:20140606T144500Z
X-MICROSOFT-CDO-ALLDAYEVENT:FALSE
SUMMARY:Elder Services Committee
DESCRIPTION:Elders Services Committee (Pearl Senior Center\, 110 Valentour Rd\, Pearl)
X-ALT-DESC;FMTTYPE=text/html:<span style="font-family:verdana\,sans-serif\;"><span style="font-size:10.0pt\;">Elders Services Committee (Pearl Senior Center\, 110 Valentour Rd\, Pearl)</span></span>
LOCATION:
UID:e.1412.651
SEQUENCE:3
DTSTAMP:20260422T105050Z
URL:https://business.rankinchamber.com/events/details/elder-services-committee-06-06-2014-651
END:VEVENT

END:VCALENDAR
