BEGIN:VCALENDAR
VERSION:2.0
PRODID:-//ChamberMaster//Event Calendar 2.0//EN
METHOD:PUBLISH
X-PUBLISHED-TTL:P3D
REFRESH-INTERVAL:P3D
CALSCALE:GREGORIAN
BEGIN:VEVENT
DTSTART:20130712T134500Z
DTEND:20130712T144500Z
X-MICROSOFT-CDO-ALLDAYEVENT:FALSE
SUMMARY:Elder Services Committee
DESCRIPTION:Elder Services Committee (Pelahatchie Town Center\, 612 Brooks St\, Pelahatchie)
X-ALT-DESC;FMTTYPE=text/html:Elder Services Committee (Pelahatchie&nbsp\;Town Center\, 612 Brooks St\, Pelahatchie)
LOCATION:
UID:e.1412.424
SEQUENCE:3
DTSTAMP:20260423T044422Z
URL:https://business.rankinchamber.com/events/details/elder-services-committee-07-12-2013-424
END:VEVENT

END:VCALENDAR
