BEGIN:VCALENDAR
VERSION:2.0
PRODID:-//ChamberMaster//Event Calendar 2.0//EN
METHOD:PUBLISH
X-PUBLISHED-TTL:P3D
REFRESH-INTERVAL:P3D
CALSCALE:GREGORIAN
BEGIN:VEVENT
DTSTART:20130802T134500Z
DTEND:20130802T144500Z
X-MICROSOFT-CDO-ALLDAYEVENT:FALSE
SUMMARY:Elder Services Committee
DESCRIPTION:Elder Services Committee (Puckett City Hall\, 6449 Hwy 18\, Puckett)
X-ALT-DESC;FMTTYPE=text/html:Elder Services Committee (Puckett&nbsp\;City Hall\, 6449 Hwy 18\,&nbsp\;Puckett)
LOCATION:
UID:e.1412.439
SEQUENCE:3
DTSTAMP:20260423T031514Z
URL:https://business.rankinchamber.com/events/details/elder-services-committee-08-02-2013-439
END:VEVENT

END:VCALENDAR
