BEGIN:VCALENDAR
VERSION:2.0
PRODID:-//ChamberMaster//Event Calendar 2.0//EN
METHOD:PUBLISH
X-PUBLISHED-TTL:P3D
REFRESH-INTERVAL:P3D
CALSCALE:GREGORIAN
BEGIN:VEVENT
DTSTART:20140905T134500Z
DTEND:20140905T144500Z
X-MICROSOFT-CDO-ALLDAYEVENT:FALSE
SUMMARY:Elder Services Committee
DESCRIPTION:Elder Services Committee (Brandon Senior Center\, 1000 Municipal Drive\, Brandon)
X-ALT-DESC;FMTTYPE=text/html:Elder Services Committee (Brandon Senior Center\, 1000 Municipal Drive\, Brandon)
LOCATION:
UID:e.1412.698
SEQUENCE:3
DTSTAMP:20260422T060840Z
URL:https://business.rankinchamber.com/events/details/elder-services-committee-09-05-2014-698
END:VEVENT

END:VCALENDAR
