BEGIN:VCALENDAR
VERSION:2.0
PRODID:-//ChamberMaster//Event Calendar 2.0//EN
METHOD:PUBLISH
X-PUBLISHED-TTL:P3D
REFRESH-INTERVAL:P3D
CALSCALE:GREGORIAN
BEGIN:VEVENT
DTSTART:20131101T134500Z
DTEND:20131101T144500Z
X-MICROSOFT-CDO-ALLDAYEVENT:FALSE
SUMMARY:Elder Services Committee
DESCRIPTION:Elder Services Committee (Copiah Bank\, 150 Earl Clark\, Florence)
X-ALT-DESC;FMTTYPE=text/html:Elder Services Committee (Copiah Bank\, 150 Earl Clark\, Florence)
LOCATION:
UID:e.1412.510
SEQUENCE:3
DTSTAMP:20260422T220043Z
URL:https://business.rankinchamber.com/events/details/elder-services-committee-11-01-2013-510
END:VEVENT

END:VCALENDAR
