BEGIN:VCALENDAR
VERSION:2.0
PRODID:-//ChamberMaster//Event Calendar 2.0//EN
METHOD:PUBLISH
X-PUBLISHED-TTL:P3D
REFRESH-INTERVAL:P3D
CALSCALE:GREGORIAN
BEGIN:VEVENT
DTSTART:20141107T144500Z
DTEND:20141107T154500Z
X-MICROSOFT-CDO-ALLDAYEVENT:FALSE
SUMMARY:Elder Services Committee
DESCRIPTION:Elder Services Committee (Brandon Senior Center\, Brandon)
X-ALT-DESC;FMTTYPE=text/html:Elder Services Committee (Brandon Senior Center\, Brandon)
LOCATION:
UID:e.1412.743
SEQUENCE:3
DTSTAMP:20260422T025520Z
URL:https://business.rankinchamber.com/events/details/elder-services-committee-11-07-2014-743
END:VEVENT

END:VCALENDAR
