BEGIN:VCALENDAR
VERSION:2.0
PRODID:-//ChamberMaster//Event Calendar 2.0//EN
METHOD:PUBLISH
X-PUBLISHED-TTL:P3D
REFRESH-INTERVAL:P3D
CALSCALE:GREGORIAN
BEGIN:VEVENT
DTSTART:20131206T144500Z
DTEND:20131206T154500Z
X-MICROSOFT-CDO-ALLDAYEVENT:FALSE
SUMMARY:Elder Services Committee
DESCRIPTION:Elder Services Committee (Flowood Library\, 103 Winners Circle\, Flowood)
X-ALT-DESC;FMTTYPE=text/html:Elder Services Committee (Flowood&nbsp\;Library\, 103 Winners Circle\, Flowood)
LOCATION:
UID:e.1412.538
SEQUENCE:3
DTSTAMP:20260422T202745Z
URL:https://business.rankinchamber.com/events/details/elder-services-committee-12-06-2013-538
END:VEVENT

END:VCALENDAR
