BEGIN:VCALENDAR
VERSION:2.0
PRODID:-//ChamberMaster//Event Calendar 2.0//EN
METHOD:PUBLISH
X-PUBLISHED-TTL:P3D
REFRESH-INTERVAL:P3D
CALSCALE:GREGORIAN
BEGIN:VEVENT
DTSTART:20141211T160000Z
DTEND:20141211T180000Z
X-MICROSOFT-CDO-ALLDAYEVENT:FALSE
SUMMARY:Elder Services Committee
DESCRIPTION:Elder Services Committee (MS State Hospital Christmas Party)
X-ALT-DESC;FMTTYPE=text/html:Elder Services Committee (MS State Hospital Christmas Party)
LOCATION:
UID:e.1412.774
SEQUENCE:3
DTSTAMP:20260422T012432Z
URL:https://business.rankinchamber.com/events/details/elder-services-committee-12-11-2014-774
END:VEVENT

END:VCALENDAR
