BEGIN:VCALENDAR
VERSION:2.0
PRODID:-//ChamberMaster//Event Calendar 2.0//EN
METHOD:PUBLISH
X-PUBLISHED-TTL:P3D
REFRESH-INTERVAL:P3D
CALSCALE:GREGORIAN
BEGIN:VEVENT
DTSTART:20130503T134500Z
DTEND:20130503T150000Z
X-MICROSOFT-CDO-ALLDAYEVENT:FALSE
SUMMARY:Elder Services Committee Meeting
DESCRIPTION:Elder Services Committee Meeting\, 1st Fridays location
X-ALT-DESC;FMTTYPE=text/html:Elder Services Committee Meeting\, 1st Fridays location
LOCATION:
UID:e.1412.354
SEQUENCE:3
DTSTAMP:20260423T075239Z
URL:https://business.rankinchamber.com/events/details/elder-services-committee-meeting-05-03-2013-354
END:VEVENT

END:VCALENDAR
