BEGIN:VCALENDAR
VERSION:2.0
PRODID:-//ChamberMaster//Event Calendar 2.0//EN
METHOD:PUBLISH
X-PUBLISHED-TTL:P3D
REFRESH-INTERVAL:P3D
CALSCALE:GREGORIAN
BEGIN:VEVENT
DTSTART:20120907T134500Z
DTEND:20120907T144500Z
X-MICROSOFT-CDO-ALLDAYEVENT:FALSE
SUMMARY:Elder Services Committee Meeting/First Fridays
DESCRIPTION:Topic: Medicare's Open Enrollment\n\nSpeaker: David Fisher
X-ALT-DESC;FMTTYPE=text/html:Topic: Medicare&#39\;s Open Enrollment<br />\nSpeaker: David Fisher&nbsp\;<br />\n
LOCATION:Brandon Senior Center
UID:e.1412.179
SEQUENCE:3
DTSTAMP:20260422T061255Z
URL:https://business.rankinchamber.com/events/details/elder-services-committee-meeting-first-fridays-09-07-2012-179
END:VEVENT

END:VCALENDAR
