BEGIN:VCALENDAR
VERSION:2.0
PRODID:-//ChamberMaster//Event Calendar 2.0//EN
METHOD:PUBLISH
X-PUBLISHED-TTL:P3D
REFRESH-INTERVAL:P3D
CALSCALE:GREGORIAN
BEGIN:VEVENT
DTSTART:20150203T210000Z
DTEND:20150203T220000Z
X-MICROSOFT-CDO-ALLDAYEVENT:FALSE
SUMMARY:Events Committee
DESCRIPTION:Events Committee (Chamber)
X-ALT-DESC;FMTTYPE=text/html:Events Committee (Chamber)
LOCATION:
UID:e.1412.1868
SEQUENCE:3
DTSTAMP:20260421T220300Z
URL:https://business.rankinchamber.com/events/details/events-committee-02-03-2015-1868
END:VEVENT

END:VCALENDAR
