BEGIN:VCALENDAR
VERSION:2.0
PRODID:-//ChamberMaster//Event Calendar 2.0//EN
METHOD:PUBLISH
X-PUBLISHED-TTL:P3D
REFRESH-INTERVAL:P3D
CALSCALE:GREGORIAN
BEGIN:VEVENT
DTSTART:20120801T200000Z
DTEND:20120801T210000Z
X-MICROSOFT-CDO-ALLDAYEVENT:FALSE
SUMMARY:Events Committee Meeting
DESCRIPTION:Committee Meeting
X-ALT-DESC;FMTTYPE=text/html:<p>\n	Committee Meeting</p>\n
LOCATION:Rankin County Chamber of Commerce (101 Service Drive\, Brandon)
UID:e.1412.164
SEQUENCE:3
DTSTAMP:20260422T042913Z
URL:https://business.rankinchamber.com/events/details/events-committee-meeting-08-01-2012-164
END:VEVENT

END:VCALENDAR
