BEGIN:VCALENDAR
VERSION:2.0
PRODID:-//ChamberMaster//Event Calendar 2.0//EN
METHOD:PUBLISH
X-PUBLISHED-TTL:P3D
REFRESH-INTERVAL:P3D
CALSCALE:GREGORIAN
BEGIN:VEVENT
DTSTART:20121003T200000Z
DTEND:20121003T210000Z
X-MICROSOFT-CDO-ALLDAYEVENT:FALSE
SUMMARY:Events Committee Meeting
DESCRIPTION:Committee Meeting
X-ALT-DESC;FMTTYPE=text/html:&nbsp\;Committee Meeting
LOCATION:Rankin County Chamber of Commerce
UID:e.1412.188
SEQUENCE:3
DTSTAMP:20260422T074028Z
URL:https://business.rankinchamber.com/events/details/events-committee-meeting-10-03-2012-188
END:VEVENT

END:VCALENDAR
