BEGIN:VCALENDAR
VERSION:2.0
PRODID:-//ChamberMaster//Event Calendar 2.0//EN
METHOD:PUBLISH
X-PUBLISHED-TTL:P3D
REFRESH-INTERVAL:P3D
CALSCALE:GREGORIAN
BEGIN:VEVENT
DTSTART:20120621T160000Z
DTEND:20120621T163000Z
X-MICROSOFT-CDO-ALLDAYEVENT:FALSE
SUMMARY:GB: Courtyard Marriott (Pearl)
DESCRIPTION:Groundbreaking: Courtyard Marriott (new pearl location)
X-ALT-DESC;FMTTYPE=text/html:Groundbreaking: Courtyard Marriott (new pearl location)
LOCATION:
UID:e.1412.134
SEQUENCE:3
DTSTAMP:20260422T012432Z
URL:https://business.rankinchamber.com/events/details/gb-courtyard-marriott-pearl-06-21-2012-134
END:VEVENT

END:VCALENDAR
