BEGIN:VCALENDAR
VERSION:2.0
PRODID:-//ChamberMaster//Event Calendar 2.0//EN
METHOD:PUBLISH
X-PUBLISHED-TTL:P3D
REFRESH-INTERVAL:P3D
CALSCALE:GREGORIAN
BEGIN:VEVENT
DTSTART:20141105T160000Z
DTEND:20141105T170000Z
X-MICROSOFT-CDO-ALLDAYEVENT:FALSE
SUMMARY:GB: I-20 Branson On Ramp Project
DESCRIPTION:
X-ALT-DESC;FMTTYPE=text/html:
LOCATION:
UID:e.1412.741
SEQUENCE:3
DTSTAMP:20260422T025542Z
URL:https://business.rankinchamber.com/events/details/gb-i-20-branson-on-ramp-project-11-05-2014-741
END:VEVENT

END:VCALENDAR
