BEGIN:VCALENDAR
VERSION:2.0
PRODID:-//ChamberMaster//Event Calendar 2.0//EN
METHOD:PUBLISH
X-PUBLISHED-TTL:P3D
REFRESH-INTERVAL:P3D
CALSCALE:GREGORIAN
BEGIN:VEVENT
DTSTART:20141121T000000Z
DTEND:20141121T010000Z
X-MICROSOFT-CDO-ALLDAYEVENT:FALSE
SUMMARY:GLOW RUN 5k Run/Walk
DESCRIPTION:GLOW RUN 5k Run/Walk (Shiloh Park\, Brandon)\n\n\n\nFor more info: www.RankinGlowRun.com
X-ALT-DESC;FMTTYPE=text/html:GLOW RUN 5k Run/Walk (Shiloh Park\, Brandon)<br />\n<br />\nFor more info: www.RankinGlowRun.com
LOCATION:
UID:e.1412.759
SEQUENCE:3
DTSTAMP:20260422T024906Z
URL:https://business.rankinchamber.com/events/details/glow-run-5k-run-walk-11-20-2014-759
END:VEVENT

END:VCALENDAR
