BEGIN:VCALENDAR
VERSION:2.0
PRODID:-//ChamberMaster//Event Calendar 2.0//EN
METHOD:PUBLISH
X-PUBLISHED-TTL:P3D
REFRESH-INTERVAL:P3D
CALSCALE:GREGORIAN
BEGIN:VEVENT
DTSTART:20151028T130000Z
DTEND:20151028T220000Z
X-MICROSOFT-CDO-ALLDAYEVENT:FALSE
SUMMARY:Glow Run Packet Pickup
DESCRIPTION:Glow Run Packet Pickup (Rankin Chamber\, 101 Service Dr\, Brandon)
X-ALT-DESC;FMTTYPE=text/html:Glow Run Packet Pickup (Rankin Chamber\, 101 Service Dr\, Brandon)
LOCATION:
UID:e.1412.2006
SEQUENCE:3
DTSTAMP:20260421T084230Z
URL:https://business.rankinchamber.com/events/details/glow-run-packet-pickup-10-28-2015-2006
END:VEVENT

END:VCALENDAR
